BEGIN:VCALENDAR
VERSION:2.0
PRODID:-//Springs of Grace Lutheran Church - ECPv6.15.20//NONSGML v1.0//EN
CALSCALE:GREGORIAN
METHOD:PUBLISH
X-WR-CALNAME:Springs of Grace Lutheran Church
X-ORIGINAL-URL:https://springsofgrace.com
X-WR-CALDESC:Events for Springs of Grace Lutheran Church
REFRESH-INTERVAL;VALUE=DURATION:PT1H
X-Robots-Tag:noindex
X-PUBLISHED-TTL:PT1H
BEGIN:VTIMEZONE
TZID:America/New_York
BEGIN:DAYLIGHT
TZOFFSETFROM:-0500
TZOFFSETTO:-0400
TZNAME:EDT
DTSTART:20240310T070000
END:DAYLIGHT
BEGIN:STANDARD
TZOFFSETFROM:-0400
TZOFFSETTO:-0500
TZNAME:EST
DTSTART:20241103T060000
END:STANDARD
BEGIN:DAYLIGHT
TZOFFSETFROM:-0500
TZOFFSETTO:-0400
TZNAME:EDT
DTSTART:20250309T070000
END:DAYLIGHT
BEGIN:STANDARD
TZOFFSETFROM:-0400
TZOFFSETTO:-0500
TZNAME:EST
DTSTART:20251102T060000
END:STANDARD
BEGIN:DAYLIGHT
TZOFFSETFROM:-0500
TZOFFSETTO:-0400
TZNAME:EDT
DTSTART:20260308T070000
END:DAYLIGHT
BEGIN:STANDARD
TZOFFSETFROM:-0400
TZOFFSETTO:-0500
TZNAME:EST
DTSTART:20261101T060000
END:STANDARD
END:VTIMEZONE
BEGIN:VEVENT
DTSTART;TZID=America/New_York:20250826T170000
DTEND;TZID=America/New_York:20250826T190000
DTSTAMP:20260424T230313
CREATED:20250116T210406Z
LAST-MODIFIED:20250811T142522Z
UID:9019-1756227600-1756234800@springsofgrace.com
SUMMARY:Taco Tuesday
DESCRIPTION:
URL:https://springsofgrace.com/event/taco-tuesday-3/
LOCATION:Springs of Grace\, 320 Holden Dr\, Inman\, SC\, 29349\, United States
END:VEVENT
END:VCALENDAR