BEGIN:VCALENDAR
VERSION:2.0
PRODID:-//Springs of Grace Lutheran Church - ECPv6.15.20//NONSGML v1.0//EN
CALSCALE:GREGORIAN
METHOD:PUBLISH
X-ORIGINAL-URL:https://springsofgrace.com
X-WR-CALDESC:Events for Springs of Grace Lutheran Church
REFRESH-INTERVAL;VALUE=DURATION:PT1H
X-Robots-Tag:noindex
X-PUBLISHED-TTL:PT1H
BEGIN:VTIMEZONE
TZID:America/New_York
BEGIN:DAYLIGHT
TZOFFSETFROM:-0500
TZOFFSETTO:-0400
TZNAME:EDT
DTSTART:20250309T070000
END:DAYLIGHT
BEGIN:STANDARD
TZOFFSETFROM:-0400
TZOFFSETTO:-0500
TZNAME:EST
DTSTART:20251102T060000
END:STANDARD
BEGIN:DAYLIGHT
TZOFFSETFROM:-0500
TZOFFSETTO:-0400
TZNAME:EDT
DTSTART:20260308T070000
END:DAYLIGHT
BEGIN:STANDARD
TZOFFSETFROM:-0400
TZOFFSETTO:-0500
TZNAME:EST
DTSTART:20261101T060000
END:STANDARD
BEGIN:DAYLIGHT
TZOFFSETFROM:-0500
TZOFFSETTO:-0400
TZNAME:EDT
DTSTART:20270314T070000
END:DAYLIGHT
BEGIN:STANDARD
TZOFFSETFROM:-0400
TZOFFSETTO:-0500
TZNAME:EST
DTSTART:20271107T060000
END:STANDARD
END:VTIMEZONE
BEGIN:VEVENT
DTSTART;TZID=America/New_York:20260311T173000
DTEND;TZID=America/New_York:20260311T183000
DTSTAMP:20260423T155724
CREATED:20260309T195129Z
LAST-MODIFIED:20260309T195249Z
UID:9131-1773250200-1773253800@springsofgrace.com
SUMMARY:Midweek Lenten Meal and Service
DESCRIPTION:
URL:https://springsofgrace.com/event/midweek-lenten-meal-and-service-3/
LOCATION:Springs of Grace\, 320 Holden Dr\, Inman\, SC\, 29349\, United States
END:VEVENT
BEGIN:VEVENT
DTSTART;TZID=America/New_York:20260318T173000
DTEND;TZID=America/New_York:20260318T183000
DTSTAMP:20260423T155724
CREATED:20260309T195051Z
LAST-MODIFIED:20260309T195051Z
UID:9129-1773855000-1773858600@springsofgrace.com
SUMMARY:Midweek Lenten Meal and Service
DESCRIPTION:
URL:https://springsofgrace.com/event/midweek-lenten-meal-and-service-2/
LOCATION:Springs of Grace\, 320 Holden Dr\, Inman\, SC\, 29349\, United States
END:VEVENT
BEGIN:VEVENT
DTSTART;TZID=America/New_York:20260325T173000
DTEND;TZID=America/New_York:20260325T183000
DTSTAMP:20260423T155724
CREATED:20260309T194952Z
LAST-MODIFIED:20260309T195209Z
UID:9127-1774459800-1774463400@springsofgrace.com
SUMMARY:Midweek Lenten Meal and Service
DESCRIPTION:
URL:https://springsofgrace.com/event/midweek-lenten-meal-and-service/
LOCATION:Springs of Grace\, 320 Holden Dr\, Inman\, SC\, 29349\, United States
END:VEVENT
BEGIN:VEVENT
DTSTART;TZID=America/New_York:20260402T180000
DTEND;TZID=America/New_York:20260402T190000
DTSTAMP:20260423T155724
CREATED:20260309T194519Z
LAST-MODIFIED:20260309T194519Z
UID:9121-1775152800-1775156400@springsofgrace.com
SUMMARY:Maundy Thursday Service
DESCRIPTION:
URL:https://springsofgrace.com/event/maundy-thursday-service/
LOCATION:Springs of Grace\, 320 Holden Dr\, Inman\, SC\, 29349\, United States
END:VEVENT
BEGIN:VEVENT
DTSTART;TZID=America/New_York:20260403T180000
DTEND;TZID=America/New_York:20260403T190000
DTSTAMP:20260423T155724
CREATED:20260309T194554Z
LAST-MODIFIED:20260309T194554Z
UID:9123-1775239200-1775242800@springsofgrace.com
SUMMARY:Good Friday Service
DESCRIPTION:
URL:https://springsofgrace.com/event/good-friday-service/
LOCATION:Springs of Grace\, 320 Holden Dr\, Inman\, SC\, 29349\, United States
END:VEVENT
BEGIN:VEVENT
DTSTART;TZID=America/New_York:20260405T090000
DTEND;TZID=America/New_York:20260405T103000
DTSTAMP:20260423T155724
CREATED:20260309T194307Z
LAST-MODIFIED:20260309T194307Z
UID:9117-1775379600-1775385000@springsofgrace.com
SUMMARY:Easter Breakfast
DESCRIPTION:
URL:https://springsofgrace.com/event/easter-breakfast/
LOCATION:SC
END:VEVENT
BEGIN:VEVENT
DTSTART;TZID=America/New_York:20260405T103000
DTEND;TZID=America/New_York:20260405T113000
DTSTAMP:20260423T155724
CREATED:20260309T194434Z
LAST-MODIFIED:20260309T194434Z
UID:9119-1775385000-1775388600@springsofgrace.com
SUMMARY:Easter Service 2026
DESCRIPTION:
URL:https://springsofgrace.com/event/easter-service-2026/
LOCATION:Springs of Grace\, 320 Holden Dr\, Inman\, SC\, 29349\, United States
END:VEVENT
BEGIN:VEVENT
DTSTART;TZID=America/New_York:20260502T170000
DTEND;TZID=America/New_York:20260502T190000
DTSTAMP:20260423T155724
CREATED:20260309T194815Z
LAST-MODIFIED:20260309T194815Z
UID:9125-1777741200-1777748400@springsofgrace.com
SUMMARY:Spring Fish Fry
DESCRIPTION:
URL:https://springsofgrace.com/event/spring-fish-fry/
LOCATION:Springs of Grace\, 320 Holden Dr\, Inman\, SC\, 29349\, United States
END:VEVENT
END:VCALENDAR