BEGIN:VCALENDAR
VERSION:2.0
PRODID:-//Springs of Grace Lutheran Church - ECPv6.15.20//NONSGML v1.0//EN
CALSCALE:GREGORIAN
METHOD:PUBLISH
X-WR-CALNAME:Springs of Grace Lutheran Church
X-ORIGINAL-URL:https://springsofgrace.com
X-WR-CALDESC:Events for Springs of Grace Lutheran Church
REFRESH-INTERVAL;VALUE=DURATION:PT1H
X-Robots-Tag:noindex
X-PUBLISHED-TTL:PT1H
BEGIN:VTIMEZONE
TZID:America/New_York
BEGIN:DAYLIGHT
TZOFFSETFROM:-0500
TZOFFSETTO:-0400
TZNAME:EDT
DTSTART:20230312T070000
END:DAYLIGHT
BEGIN:STANDARD
TZOFFSETFROM:-0400
TZOFFSETTO:-0500
TZNAME:EST
DTSTART:20231105T060000
END:STANDARD
BEGIN:DAYLIGHT
TZOFFSETFROM:-0500
TZOFFSETTO:-0400
TZNAME:EDT
DTSTART:20240310T070000
END:DAYLIGHT
BEGIN:STANDARD
TZOFFSETFROM:-0400
TZOFFSETTO:-0500
TZNAME:EST
DTSTART:20241103T060000
END:STANDARD
BEGIN:DAYLIGHT
TZOFFSETFROM:-0500
TZOFFSETTO:-0400
TZNAME:EDT
DTSTART:20250309T070000
END:DAYLIGHT
BEGIN:STANDARD
TZOFFSETFROM:-0400
TZOFFSETTO:-0500
TZNAME:EST
DTSTART:20251102T060000
END:STANDARD
BEGIN:DAYLIGHT
TZOFFSETFROM:-0500
TZOFFSETTO:-0400
TZNAME:EDT
DTSTART:20260308T070000
END:DAYLIGHT
BEGIN:STANDARD
TZOFFSETFROM:-0400
TZOFFSETTO:-0500
TZNAME:EST
DTSTART:20261101T060000
END:STANDARD
END:VTIMEZONE
BEGIN:VEVENT
DTSTART;TZID=America/New_York:20251005T103000
DTEND;TZID=America/New_York:20251005T113000
DTSTAMP:20260423T184917
CREATED:20250116T211458Z
LAST-MODIFIED:20250116T211625Z
UID:9023-1759660200-1759663800@springsofgrace.com
SUMMARY:Blessing of the Animals
DESCRIPTION:
URL:https://springsofgrace.com/event/blessing-of-the-animals-2/
LOCATION:Springs of Grace\, 320 Holden Dr\, Inman\, SC\, 29349\, United States
END:VEVENT
BEGIN:VEVENT
DTSTART;TZID=America/New_York:20250920T170000
DTEND;TZID=America/New_York:20250920T190000
DTSTAMP:20260423T184917
CREATED:20250116T212010Z
LAST-MODIFIED:20250116T212010Z
UID:9025-1758387600-1758394800@springsofgrace.com
SUMMARY:Fish Fry
DESCRIPTION:
URL:https://springsofgrace.com/event/fish-fry-3/
LOCATION:Springs of Grace\, 320 Holden Dr\, Inman\, SC\, 29349\, United States
END:VEVENT
BEGIN:VEVENT
DTSTART;TZID=America/New_York:20250913T070000
DTEND;TZID=America/New_York:20250913T120000
DTSTAMP:20260423T184917
CREATED:20250116T205318Z
LAST-MODIFIED:20250907T021816Z
UID:9011-1757746800-1757764800@springsofgrace.com
SUMMARY:Yard Sale
DESCRIPTION:
URL:https://springsofgrace.com/event/womens-fellowship-event-tbd/
LOCATION:Springs of Grace\, 320 Holden Dr\, Inman\, SC\, 29349\, United States
END:VEVENT
BEGIN:VEVENT
DTSTART;TZID=America/New_York:20250906T160000
DTEND;TZID=America/New_York:20250906T200000
DTSTAMP:20260423T184917
CREATED:20250116T211020Z
LAST-MODIFIED:20250116T211020Z
UID:9021-1757174400-1757188800@springsofgrace.com
SUMMARY:German American Club
DESCRIPTION:
URL:https://springsofgrace.com/event/german-american-club/
LOCATION:Springs of Grace\, 320 Holden Dr\, Inman\, SC\, 29349\, United States
END:VEVENT
BEGIN:VEVENT
DTSTART;TZID=America/New_York:20250826T170000
DTEND;TZID=America/New_York:20250826T190000
DTSTAMP:20260423T184917
CREATED:20250116T210406Z
LAST-MODIFIED:20250811T142522Z
UID:9019-1756227600-1756234800@springsofgrace.com
SUMMARY:Taco Tuesday
DESCRIPTION:
URL:https://springsofgrace.com/event/taco-tuesday-3/
LOCATION:Springs of Grace\, 320 Holden Dr\, Inman\, SC\, 29349\, United States
END:VEVENT
BEGIN:VEVENT
DTSTART;TZID=America/New_York:20250820T150000
DTEND;TZID=America/New_York:20250820T170000
DTSTAMP:20260423T184917
CREATED:20250811T143122Z
LAST-MODIFIED:20250811T143122Z
UID:9093-1755702000-1755709200@springsofgrace.com
SUMMARY:Sip and Paint
DESCRIPTION:Painting supplies and food are provided for $10. All members and friends of Springs of Grace are welcome to join.
URL:https://springsofgrace.com/event/sip-and-paint/
LOCATION:Springs of Grace\, 320 Holden Dr\, Inman\, SC\, 29349\, United States
END:VEVENT
BEGIN:VEVENT
DTSTART;VALUE=DATE:20250701
DTEND;VALUE=DATE:20250702
DTSTAMP:20260423T184917
CREATED:20250116T210129Z
LAST-MODIFIED:20250116T210129Z
UID:9016-1751328000-1751414399@springsofgrace.com
SUMMARY:Upstate Family Resource Center Backpack Supplies
DESCRIPTION:We will be gathering supplies and donations for back-to-school backpacks to be given through the Upstate Family Resource Center in the month of July.
URL:https://springsofgrace.com/event/upstate-family-resource-center-backpack-supplies/
LOCATION:Springs of Grace\, 320 Holden Dr\, Inman\, SC\, 29349\, United States
END:VEVENT
BEGIN:VEVENT
DTSTART;TZID=America/New_York:20250629T103000
DTEND;TZID=America/New_York:20250629T130000
DTSTAMP:20260423T184917
CREATED:20250116T205705Z
LAST-MODIFIED:20250116T205705Z
UID:9014-1751193000-1751202000@springsofgrace.com
SUMMARY:Neighborhood Picnic & Outdoor Service
DESCRIPTION:
URL:https://springsofgrace.com/event/neighborhood-picnic-outdoor-service/
LOCATION:Springs of Grace\, 320 Holden Dr\, Inman\, SC\, 29349\, United States
END:VEVENT
BEGIN:VEVENT
DTSTART;TZID=America/New_York:20250420T063000
DTEND;TZID=America/New_York:20250420T223000
DTSTAMP:20260423T184917
CREATED:20250116T204959Z
LAST-MODIFIED:20250405T182729Z
UID:9009-1745130600-1745188200@springsofgrace.com
SUMMARY:Easter Sunday
DESCRIPTION:Sunrise Service 6:30AM \nBreakfast 8AM \nTraditional Service 9:30AM
URL:https://springsofgrace.com/event/easter-sunday/
LOCATION:Springs of Grace\, 320 Holden Dr\, Inman\, SC\, 29349\, United States
END:VEVENT
BEGIN:VEVENT
DTSTART;TZID=America/New_York:20250418T180000
DTEND;TZID=America/New_York:20250418T190000
DTSTAMP:20260423T184917
CREATED:20250116T204322Z
LAST-MODIFIED:20250116T204322Z
UID:9007-1744999200-1745002800@springsofgrace.com
SUMMARY:Good Friday
DESCRIPTION:
URL:https://springsofgrace.com/event/good-friday/
LOCATION:Springs of Grace\, 320 Holden Dr\, Inman\, SC\, 29349\, United States
END:VEVENT
BEGIN:VEVENT
DTSTART;TZID=America/New_York:20250417T180000
DTEND;TZID=America/New_York:20250417T190000
DTSTAMP:20260423T184917
CREATED:20250116T204226Z
LAST-MODIFIED:20250116T204226Z
UID:9004-1744912800-1744916400@springsofgrace.com
SUMMARY:Maundy Thursday
DESCRIPTION:
URL:https://springsofgrace.com/event/maundy-thursday/
LOCATION:SC
END:VEVENT
BEGIN:VEVENT
DTSTART;TZID=America/New_York:20250409T173000
DTEND;TZID=America/New_York:20250409T193000
DTSTAMP:20260423T184917
CREATED:20250116T203911Z
LAST-MODIFIED:20250116T203911Z
UID:9002-1744219800-1744227000@springsofgrace.com
SUMMARY:Midweek Lent Drama
DESCRIPTION:Meal @ 5:30pm Drama @ 6:30pm
URL:https://springsofgrace.com/event/midweek-lent-drama-5/
LOCATION:SC
END:VEVENT
BEGIN:VEVENT
DTSTART;TZID=America/New_York:20250405T163000
DTEND;TZID=America/New_York:20250405T190000
DTSTAMP:20260423T184917
CREATED:20250116T202356Z
LAST-MODIFIED:20250405T182850Z
UID:8988-1743870600-1743879600@springsofgrace.com
SUMMARY:Fish Fry
DESCRIPTION:Meal Includes Beverage\, Mashed Potatoes\, Coleslaw\, and Dessert
URL:https://springsofgrace.com/event/fish-fry-2/
LOCATION:Springs of Grace\, 320 Holden Dr\, Inman\, SC\, 29349\, United States
END:VEVENT
BEGIN:VEVENT
DTSTART;TZID=America/New_York:20250402T173000
DTEND;TZID=America/New_York:20250402T193000
DTSTAMP:20260423T184917
CREATED:20250116T203712Z
LAST-MODIFIED:20250116T203802Z
UID:9000-1743615000-1743622200@springsofgrace.com
SUMMARY:Midweek Lent Drama
DESCRIPTION:Meal @ 5:30pm Drama @ 6:30pm
URL:https://springsofgrace.com/event/midweek-lent-drama-4/
LOCATION:Springs of Grace\, 320 Holden Dr\, Inman\, SC\, 29349\, United States
END:VEVENT
BEGIN:VEVENT
DTSTART;TZID=America/New_York:20250326T173000
DTEND;TZID=America/New_York:20250326T193000
DTSTAMP:20260423T184917
CREATED:20250116T203400Z
LAST-MODIFIED:20250116T203541Z
UID:8997-1743010200-1743017400@springsofgrace.com
SUMMARY:Midweek Lent Drama
DESCRIPTION:Meal @ 5:30pm Drama @ 6:30pm
URL:https://springsofgrace.com/event/midweek-lent-drama-3/
LOCATION:SC
END:VEVENT
BEGIN:VEVENT
DTSTART;TZID=America/New_York:20250319T173000
DTEND;TZID=America/New_York:20250319T193000
DTSTAMP:20260423T184917
CREATED:20250116T203259Z
LAST-MODIFIED:20250116T203259Z
UID:8995-1742405400-1742412600@springsofgrace.com
SUMMARY:Midweek Lent Drama
DESCRIPTION:Meal @ 5:30pm Drama @ 6:30pm
URL:https://springsofgrace.com/event/midweek-lent-drama-2/
LOCATION:SC
END:VEVENT
BEGIN:VEVENT
DTSTART;TZID=America/New_York:20250312T173000
DTEND;TZID=America/New_York:20250312T193000
DTSTAMP:20260423T184917
CREATED:20250116T203037Z
LAST-MODIFIED:20250116T204028Z
UID:8993-1741800600-1741807800@springsofgrace.com
SUMMARY:Midweek Lent Drama
DESCRIPTION:Meal @ 5:30pm \nDrama @ 6:30pm
URL:https://springsofgrace.com/event/midweek-lent-drama/
LOCATION:SC
END:VEVENT
BEGIN:VEVENT
DTSTART;TZID=America/New_York:20250305T180000
DTEND;TZID=America/New_York:20250305T190000
DTSTAMP:20260423T184917
CREATED:20250116T202811Z
LAST-MODIFIED:20250116T202811Z
UID:8991-1741197600-1741201200@springsofgrace.com
SUMMARY:Ash Wednesday
DESCRIPTION:
URL:https://springsofgrace.com/event/ash-wednesday/
LOCATION:Springs of Grace\, 320 Holden Dr\, Inman\, SC\, 29349\, United States
END:VEVENT
BEGIN:VEVENT
DTSTART;TZID=America/New_York:20250215T170000
DTEND;TZID=America/New_York:20250215T190000
DTSTAMP:20260423T184917
CREATED:20250116T201117Z
LAST-MODIFIED:20250116T201117Z
UID:8985-1739638800-1739646000@springsofgrace.com
SUMMARY:Chicken Dinner
DESCRIPTION:
URL:https://springsofgrace.com/event/chicken-dinner/
LOCATION:Springs of Grace\, 320 Holden Dr\, Inman\, SC\, 29349\, United States
END:VEVENT
BEGIN:VEVENT
DTSTART;TZID=America/New_York:20250122T103000
DTEND;TZID=America/New_York:20250122T113000
DTSTAMP:20260423T184917
CREATED:20250116T200807Z
LAST-MODIFIED:20250116T200807Z
UID:8983-1737541800-1737545400@springsofgrace.com
SUMMARY:Bible Study Gospel of John
DESCRIPTION:Bible Study on the Gospel of John
URL:https://springsofgrace.com/event/bible-study-gospel-of-john/
LOCATION:Springs of Grace\, 320 Holden Dr\, Inman\, SC\, 29349\, United States
END:VEVENT
BEGIN:VEVENT
DTSTART;TZID=America/New_York:20250121T170000
DTEND;TZID=America/New_York:20250121T190000
DTSTAMP:20260423T184917
CREATED:20250116T200154Z
LAST-MODIFIED:20250116T200345Z
UID:8980-1737478800-1737486000@springsofgrace.com
SUMMARY:Taco Tuesday
DESCRIPTION:3 Tacos $7 Best Deal in the World
URL:https://springsofgrace.com/event/taco-tuesday-2/
LOCATION:Springs of Grace\, 320 Holden Dr\, Inman\, SC\, 29349\, United States
END:VEVENT
BEGIN:VEVENT
DTSTART;TZID=America/New_York:20241224T173000
DTEND;TZID=America/New_York:20241224T183000
DTSTAMP:20260423T184917
CREATED:20241212T193607Z
LAST-MODIFIED:20241212T193607Z
UID:8973-1735061400-1735065000@springsofgrace.com
SUMMARY:Christmas Eve Service
DESCRIPTION:Candlelight Service
URL:https://springsofgrace.com/event/christmas-eve-service/
LOCATION:Springs of Grace\, 320 Holden Dr\, Inman\, SC\, 29349\, United States
END:VEVENT
BEGIN:VEVENT
DTSTART;TZID=America/New_York:20241218T053000
DTEND;TZID=America/New_York:20241218T063000
DTSTAMP:20260423T184917
CREATED:20240204T032121Z
LAST-MODIFIED:20241208T041442Z
UID:8798-1734499800-1734503400@springsofgrace.com
SUMMARY:Advent Service
DESCRIPTION:Service and potluck
URL:https://springsofgrace.com/event/advent-service/
LOCATION:Springs of Grace\, 320 Holden Dr\, Inman\, SC\, 29349\, United States
END:VEVENT
BEGIN:VEVENT
DTSTART;TZID=America/New_York:20241217T103000
DTEND;TZID=America/New_York:20241217T113000
DTSTAMP:20260423T184917
CREATED:20241212T182710Z
LAST-MODIFIED:20241212T182823Z
UID:8967-1734431400-1734435000@springsofgrace.com
SUMMARY:Men's Bible Study
DESCRIPTION:Gospel of John \n 
URL:https://springsofgrace.com/event/mens-bible-study/
LOCATION:Springs of Grace\, 320 Holden Dr\, Inman\, SC\, 29349\, United States
END:VEVENT
BEGIN:VEVENT
DTSTART;TZID=America/New_York:20241211T173000
DTEND;TZID=America/New_York:20241211T183000
DTSTAMP:20260423T184917
CREATED:20240204T032219Z
LAST-MODIFIED:20241208T041528Z
UID:8800-1733938200-1733941800@springsofgrace.com
SUMMARY:Advent Service
DESCRIPTION:Service and potluck
URL:https://springsofgrace.com/event/advent-service-2/
LOCATION:Springs of Grace\, 320 Holden Dr\, Inman\, SC\, 29349\, United States
END:VEVENT
BEGIN:VEVENT
DTSTART;VALUE=DATE:20241207
DTEND;VALUE=DATE:20241208
DTSTAMP:20260423T184917
CREATED:20240204T032509Z
LAST-MODIFIED:20241208T041159Z
UID:8802-1733529600-1733615999@springsofgrace.com
SUMMARY:Ladies Dinner
DESCRIPTION:Dinner and gift exchange
URL:https://springsofgrace.com/event/ladies-dinner/
LOCATION:Springs of Grace\, 320 Holden Dr\, Inman\, SC\, 29349\, United States
END:VEVENT
BEGIN:VEVENT
DTSTART;VALUE=DATE:20241203
DTEND;VALUE=DATE:20241204
DTSTAMP:20260423T184917
CREATED:20240204T031940Z
LAST-MODIFIED:20241126T163914Z
UID:8796-1733184000-1733270399@springsofgrace.com
SUMMARY:Due: Giving Tree
DESCRIPTION:This year we are working in collaboration with the Upstate Family Resource Center. The gifts will be delivered to them on Dec 4. \nThe stars generally include the child’s number\, male/female\, age\, favorite color\, and a list of items. You do not need to buy everything on the list\, and you can also include stocking stuffers. A gift bag is appreciated\, but not required.
URL:https://springsofgrace.com/event/giving-tree/
LOCATION:Springs of Grace\, 320 Holden Dr\, Inman\, SC\, 29349\, United States
END:VEVENT
BEGIN:VEVENT
DTSTART;TZID=America/New_York:20241201T113000
DTEND;TZID=America/New_York:20241201T123000
DTSTAMP:20260423T184917
CREATED:20240204T032829Z
LAST-MODIFIED:20241110T142957Z
UID:8806-1733052600-1733056200@springsofgrace.com
SUMMARY:Fall Congregation Meeting 2024
DESCRIPTION:
URL:https://springsofgrace.com/event/fall-congregation-meeting-2024/
LOCATION:Springs of Grace\, 320 Holden Dr\, Inman\, SC\, 29349\, United States
END:VEVENT
BEGIN:VEVENT
DTSTART;TZID=America/New_York:20241124T113000
DTEND;TZID=America/New_York:20241124T123000
DTSTAMP:20260423T184917
CREATED:20240204T032656Z
LAST-MODIFIED:20240204T032656Z
UID:8804-1732447800-1732451400@springsofgrace.com
SUMMARY:Decorate Church
DESCRIPTION:Merry Christmas!
URL:https://springsofgrace.com/event/decorate-church/
LOCATION:Springs of Grace\, 320 Holden Dr\, Inman\, SC\, 29349\, United States
END:VEVENT
BEGIN:VEVENT
DTSTART;TZID=America/New_York:20241109T170000
DTEND;TZID=America/New_York:20241109T190000
DTSTAMP:20260423T184917
CREATED:20240204T031813Z
LAST-MODIFIED:20241014T211303Z
UID:8794-1731171600-1731178800@springsofgrace.com
SUMMARY:Fall Fish Fry
DESCRIPTION:
URL:https://springsofgrace.com/event/fish-fry/
LOCATION:Springs of Grace\, 320 Holden Dr\, Inman\, SC\, 29349\, United States
END:VEVENT
END:VCALENDAR