BEGIN:VCALENDAR
VERSION:2.0
PRODID:-//Springs of Grace Lutheran Church - ECPv6.15.20//NONSGML v1.0//EN
CALSCALE:GREGORIAN
METHOD:PUBLISH
X-WR-CALNAME:Springs of Grace Lutheran Church
X-ORIGINAL-URL:https://springsofgrace.com
X-WR-CALDESC:Events for Springs of Grace Lutheran Church
REFRESH-INTERVAL;VALUE=DURATION:PT1H
X-Robots-Tag:noindex
X-PUBLISHED-TTL:PT1H
BEGIN:VTIMEZONE
TZID:America/New_York
BEGIN:DAYLIGHT
TZOFFSETFROM:-0500
TZOFFSETTO:-0400
TZNAME:EDT
DTSTART:20230312T070000
END:DAYLIGHT
BEGIN:STANDARD
TZOFFSETFROM:-0400
TZOFFSETTO:-0500
TZNAME:EST
DTSTART:20231105T060000
END:STANDARD
BEGIN:DAYLIGHT
TZOFFSETFROM:-0500
TZOFFSETTO:-0400
TZNAME:EDT
DTSTART:20240310T070000
END:DAYLIGHT
BEGIN:STANDARD
TZOFFSETFROM:-0400
TZOFFSETTO:-0500
TZNAME:EST
DTSTART:20241103T060000
END:STANDARD
BEGIN:DAYLIGHT
TZOFFSETFROM:-0500
TZOFFSETTO:-0400
TZNAME:EDT
DTSTART:20250309T070000
END:DAYLIGHT
BEGIN:STANDARD
TZOFFSETFROM:-0400
TZOFFSETTO:-0500
TZNAME:EST
DTSTART:20251102T060000
END:STANDARD
END:VTIMEZONE
BEGIN:VEVENT
DTSTART;TZID=America/New_York:20240918T093000
DTEND;TZID=America/New_York:20240918T120000
DTSTAMP:20260423T184404
CREATED:20240910T214007Z
LAST-MODIFIED:20240910T214007Z
UID:8904-1726651800-1726660800@springsofgrace.com
SUMMARY:Craft Making
DESCRIPTION:Making crafts for the October Craft Fair at Holy Communion
URL:https://springsofgrace.com/event/craft-making/
LOCATION:SC
END:VEVENT
BEGIN:VEVENT
DTSTART;VALUE=DATE:20240917
DTEND;VALUE=DATE:20240918
DTSTAMP:20260423T184404
CREATED:20240204T031134Z
LAST-MODIFIED:20240818T230344Z
UID:8792-1726531200-1726617599@springsofgrace.com
SUMMARY:Taco Tuesday
DESCRIPTION:
URL:https://springsofgrace.com/event/taco-tuesday/
LOCATION:Springs of Grace\, 320 Holden Dr\, Inman\, SC\, 29349\, United States
END:VEVENT
END:VCALENDAR