BEGIN:VCALENDAR
VERSION:2.0
PRODID:-//Springs of Grace Lutheran Church - ECPv6.15.20//NONSGML v1.0//EN
CALSCALE:GREGORIAN
METHOD:PUBLISH
X-ORIGINAL-URL:https://springsofgrace.com
X-WR-CALDESC:Events for Springs of Grace Lutheran Church
REFRESH-INTERVAL;VALUE=DURATION:PT1H
X-Robots-Tag:noindex
X-PUBLISHED-TTL:PT1H
BEGIN:VTIMEZONE
TZID:America/New_York
BEGIN:DAYLIGHT
TZOFFSETFROM:-0500
TZOFFSETTO:-0400
TZNAME:EDT
DTSTART:20240310T070000
END:DAYLIGHT
BEGIN:STANDARD
TZOFFSETFROM:-0400
TZOFFSETTO:-0500
TZNAME:EST
DTSTART:20241103T060000
END:STANDARD
BEGIN:DAYLIGHT
TZOFFSETFROM:-0500
TZOFFSETTO:-0400
TZNAME:EDT
DTSTART:20250309T070000
END:DAYLIGHT
BEGIN:STANDARD
TZOFFSETFROM:-0400
TZOFFSETTO:-0500
TZNAME:EST
DTSTART:20251102T060000
END:STANDARD
BEGIN:DAYLIGHT
TZOFFSETFROM:-0500
TZOFFSETTO:-0400
TZNAME:EDT
DTSTART:20260308T070000
END:DAYLIGHT
BEGIN:STANDARD
TZOFFSETFROM:-0400
TZOFFSETTO:-0500
TZNAME:EST
DTSTART:20261101T060000
END:STANDARD
END:VTIMEZONE
BEGIN:VEVENT
DTSTART;TZID=America/New_York:20251203T173000
DTEND;TZID=America/New_York:20251203T190000
DTSTAMP:20260423T172329
CREATED:20250116T212957Z
LAST-MODIFIED:20250116T213436Z
UID:9033-1764783000-1764788400@springsofgrace.com
SUMMARY:Midweek Advent Devotions
DESCRIPTION:Meal 5:30 6pm Speaker 6:30pm Devotions
URL:https://springsofgrace.com/event/midweek-advent-devotions/
LOCATION:Springs of Grace\, 320 Holden Dr\, Inman\, SC\, 29349\, United States
END:VEVENT
BEGIN:VEVENT
DTSTART;TZID=America/New_York:20251210T173000
DTEND;TZID=America/New_York:20251210T190000
DTSTAMP:20260423T172329
CREATED:20250116T213158Z
LAST-MODIFIED:20250116T213158Z
UID:9035-1765387800-1765393200@springsofgrace.com
SUMMARY:Midweek Advent Devotions
DESCRIPTION:Meal 5:30 6pm Speaker 6:30pm Devotions
URL:https://springsofgrace.com/event/midweek-advent-devotions-2/
LOCATION:Springs of Grace\, 320 Holden Dr\, Inman\, SC\, 29349\, United States
END:VEVENT
BEGIN:VEVENT
DTSTART;TZID=America/New_York:20251217T173000
DTEND;TZID=America/New_York:20251217T190000
DTSTAMP:20260423T172329
CREATED:20250116T213318Z
LAST-MODIFIED:20250116T213318Z
UID:9037-1765992600-1765998000@springsofgrace.com
SUMMARY:Midweek Advent Devotions
DESCRIPTION:Meal 5:30 6pm Speaker 6:30pm Devotions
URL:https://springsofgrace.com/event/midweek-advent-devotions-3/
LOCATION:Springs of Grace\, 320 Holden Dr\, Inman\, SC\, 29349\, United States
END:VEVENT
BEGIN:VEVENT
DTSTART;TZID=America/New_York:20251224T173000
DTEND;TZID=America/New_York:20251224T193000
DTSTAMP:20260423T172329
CREATED:20250116T213616Z
LAST-MODIFIED:20250116T213616Z
UID:9040-1766597400-1766604600@springsofgrace.com
SUMMARY:Christmas Eve
DESCRIPTION:
URL:https://springsofgrace.com/event/christmas-eve/
LOCATION:Springs of Grace\, 320 Holden Dr\, Inman\, SC\, 29349\, United States
END:VEVENT
BEGIN:VEVENT
DTSTART;TZID=America/New_York:20251228T103000
DTEND;TZID=America/New_York:20251228T113000
DTSTAMP:20260423T172329
CREATED:20250116T213826Z
LAST-MODIFIED:20250116T213826Z
UID:9042-1766917800-1766921400@springsofgrace.com
SUMMARY:Lessons & Carols
DESCRIPTION:
URL:https://springsofgrace.com/event/lessons-carols/
LOCATION:Springs of Grace\, 320 Holden Dr\, Inman\, SC\, 29349\, United States
END:VEVENT
END:VCALENDAR